BEGIN:VCALENDAR
VERSION:2.0
PRODID: Encontro de Folclore - Grupo Folclórico e Etnográfico de Cova do 
 Ouro e Serra da Rocha
X-WR-CALNAME: Encontro de Folclore - Grupo Folclórico e Etnográfico de Co
 va do Ouro e Serra da Rocha
X-WR-TIMEZONE:Europe/Lisbon
X-PUBLISHED-TTL:P1W
BEGIN:VTIMEZONE
TZID:Europe/Lisbon
X-LIC-LOCATION:Europe/Lisbon
END:VTIMEZONE
BEGIN:VEVENT
UID:69ea4bec453ce
DTSTART;VALUE=DATE:20260718
SEQUENCE:0
TRANSP:OPAQUE
DTEND;VALUE=DATE:20260719
SUMMARY: Encontro de Folclore - Grupo Folclórico e Etnográfico de Cova do
  Ouro e Serra da Rocha
CLASS:PUBLIC
DESCRIPTION:Informamos toda a população que irá ser dinamizada a ação 
 de formação em saúde oral aberta a toda a comunidade\, realizada no âm
 bito do Plano de Ação da Comissão Social de Freguesia de Cernache\, no 
 dia 21 de abril\, pelas 14h30\, na Junta de Freguesia de Cernache.Durante 
 a sessão serão abordados temas como as técnicas corretas de escovagem\,
  as últimas tecnologias na medicina dentária e a importância da realiza
 ção de check-ups dentários regulares.Esta iniciativa tem como objetivo 
 promover a literacia em saúde oral e incentivar a adoção de hábitos sa
 udáveis.
X-MICROSOFT-CDO-ALLDAYEVENT:TRUE
DTSTAMP:20260423T164220Z
END:VEVENT
END:VCALENDAR