BEGIN:VCALENDAR
VERSION:2.0
PRODID:Evento solidário ADR Casal da Misarela - Clube Motard do Mondego
X-WR-CALNAME:Evento solidário ADR Casal da Misarela - Clube Motard do Mond
 ego
X-WR-TIMEZONE:Europe/Lisbon
X-PUBLISHED-TTL:P1W
BEGIN:VTIMEZONE
TZID:Europe/Lisbon
X-LIC-LOCATION:Europe/Lisbon
END:VTIMEZONE
BEGIN:VEVENT
UID:69ecbae4e0c3b
DTSTART;VALUE=DATE:20260124
SEQUENCE:0
TRANSP:OPAQUE
DTEND;VALUE=DATE:20260125
SUMMARY:Evento solidário ADR Casal da Misarela - Clube Motard do Mondego
CLASS:PUBLIC
DESCRIPTION:Informamos toda a população que no próximo dia 24 de janeiro
 \, o @clubemotarddomondego o irá promover uma ação de solidariedade a f
 avor da ADR Casal da Misarela.Como é do conhecimento de todos\, parte do 
 edifício foi recentemente atingida por um incêndio\, provocando danos si
 gnificativos. Perante este trágico incidente\, o Clube\, em conjunto com 
 a associação e a população local\, está a unir esforços para angaria
 r fundos que permitam a reparação dos estragos causados pelo fogo.Neste 
 sentido\, apelamos à participação de todos para que\, no sábado\, dia 
 24\, se juntem neste evento solidário\, preferencialmente em moto\, demon
 strando apoio e espírito de união.O @clubemotarddomondego e a ADR Casal 
 da Misarela agradecem\, desde já\, a presença e contributo de todos os p
 articipantes.Aproveitamos ainda para agradecer publicamente a todos os art
 istas e colaboradores que\, de forma totalmente voluntária e gratuita\, s
 e disponibilizaram para tornar este evento possível.A vossa solidariedade
  faz a diferença.
X-MICROSOFT-CDO-ALLDAYEVENT:TRUE
DTSTAMP:20260425T130020Z
END:VEVENT
END:VCALENDAR